BEGIN:VCALENDAR
VERSION:2.0
PRODID:spatie/icalendar-generator
DESCRIPTION:Events from County Players
X-WR-CALDESC:Events from County Players
REFRESH-INTERVAL;VALUE=DURATION:PT1440M
X-PUBLISHED-TTL:PT1440M
BEGIN:VTIMEZONE
TZID:America/New_York
BEGIN:DAYLIGHT
DTSTART:20250309T020000Z
TZOFFSETFROM:-0500
TZOFFSETTO:-0400
END:DAYLIGHT
BEGIN:STANDARD
DTSTART:20251102T020000Z
TZOFFSETFROM:-0400
TZOFFSETTO:-0500
END:STANDARD
END:VTIMEZONE
BEGIN:VTIMEZONE
TZID:UTC
BEGIN:STANDARD
DTSTART:20250730T025612Z
TZOFFSETFROM:+0000
TZOFFSETTO:+0000
END:STANDARD
END:VTIMEZONE
BEGIN:VEVENT
UID:450-56
DTSTAMP:20260426T025612Z
SUMMARY:CP Travel Adventures: Trip to Shadowland Stages – Waitress
LOCATION:Shadowland Stages 157 Canal Street  Ellenville NY 12428
ORGANIZER;CN=G Morrice:MAILTO:glenmmorrice@gmail.com
DTSTART;TZID=America/New_York:20250824T140000
DTEND;TZID=America/New_York:20250824T150000
X-ALT-DESC;FMTTYPE=TEXT/HTML:CP Travel Adventures Trip to Shadowland Stages
  – Waitress Sunday\, August 24th at 2pm Join us for the afternoon at Sh
 adowland Stages in Ellenville\, NY. Please note travelers will be responsi
 ble for their own transportation to and from the venue. This $50 ticket pa
 ckage includes: Ticket to the 8/24/2025 matinee of Waitress at Shadowland 
 Stages Exclusive&amp;hellip\;
CATEGORIES:3) CP Event
URL;VALUE=URI:https://countyplayers.org/mc-events/cp-travel-adventures-trip
 -to-shadowland-stages-waitress/
METHOD:PUBLISH
END:VEVENT
END:VCALENDAR